BEGIN:VCALENDAR
VERSION:2.0
PRODID:-//ZEA - Sociedad para el Estudio del Andalú - ECPv6.15.20//NONSGML v1.0//EN
CALSCALE:GREGORIAN
METHOD:PUBLISH
X-ORIGINAL-URL:https://zea-andalu.org
X-WR-CALDESC:Eventos para ZEA - Sociedad para el Estudio del Andalú
REFRESH-INTERVAL;VALUE=DURATION:PT1H
X-Robots-Tag:noindex
X-PUBLISHED-TTL:PT1H
BEGIN:VTIMEZONE
TZID:Europe/Madrid
BEGIN:DAYLIGHT
TZOFFSETFROM:+0100
TZOFFSETTO:+0200
TZNAME:CEST
DTSTART:20220327T010000
END:DAYLIGHT
BEGIN:STANDARD
TZOFFSETFROM:+0200
TZOFFSETTO:+0100
TZNAME:CET
DTSTART:20221030T010000
END:STANDARD
BEGIN:DAYLIGHT
TZOFFSETFROM:+0100
TZOFFSETTO:+0200
TZNAME:CEST
DTSTART:20230326T010000
END:DAYLIGHT
BEGIN:STANDARD
TZOFFSETFROM:+0200
TZOFFSETTO:+0100
TZNAME:CET
DTSTART:20231029T010000
END:STANDARD
BEGIN:DAYLIGHT
TZOFFSETFROM:+0100
TZOFFSETTO:+0200
TZNAME:CEST
DTSTART:20240331T010000
END:DAYLIGHT
BEGIN:STANDARD
TZOFFSETFROM:+0200
TZOFFSETTO:+0100
TZNAME:CET
DTSTART:20241027T010000
END:STANDARD
END:VTIMEZONE
BEGIN:VEVENT
DTSTART;TZID=Europe/Madrid:20230222T180000
DTEND;TZID=Europe/Madrid:20230222T200000
DTSTAMP:20260424T043739
CREATED:20230220T121547Z
LAST-MODIFIED:20230220T121547Z
UID:1664-1677088800-1677096000@zea-andalu.org
SUMMARY:Xahla M. Rodríguez & J.F. Ontañón: "El andaluz en la red y en los medios de comunicación actuales" (Zan Hozé de la Rinkoná 22F 2023)
DESCRIPTION:
URL:https://zea-andalu.org/ebentoh/xahla-m-rodriguez-j-f-ontanon-el-andaluz-en-la-red-y-en-los-medios-de-comunicacion-actuales-zan-hoze-de-la-rinkona-22f-2023/
LOCATION:Barcelona
CATEGORIES:Konferensiah & Xahlah
ATTACH;FMTTYPE=image/jpeg:https://zea-andalu.org/wp-content/uploads/2023/02/Xahla-M.-Rodriguez-J.F.-Ontanon-28F-2023-La-Rinkona.jpg
END:VEVENT
BEGIN:VEVENT
DTSTART;TZID=Europe/Madrid:20230223T183000
DTEND;TZID=Europe/Madrid:20230223T200000
DTSTAMP:20260424T043739
CREATED:20230217T130816Z
LAST-MODIFIED:20230217T131540Z
UID:1655-1677177000-1677182400@zea-andalu.org
SUMMARY:Konferensia-kolokio der M. Rodríguez Illana: "Yo hablo en andaluz y no me avergüenzo. ¿Y tú?" (Herrera\, 23F 2023)
DESCRIPTION:
URL:https://zea-andalu.org/ebentoh/konferensia-kolokio-der-m-rodriguez-illana-yo-hablo-en-andaluz-y-no-me-averguenzo-y-tu-herrera-23f-2023/
LOCATION:Casa de la Cultura (Herrera\, Sevilla)\, Herrera\, Sevilla
CATEGORIES:Konferensiah & Xahlah
ATTACH;FMTTYPE=image/jpeg:https://zea-andalu.org/wp-content/uploads/2023/02/Konferenzia-M.-Rodriguez-Illana.-Herrera-23-02-2023.jpg
END:VEVENT
BEGIN:VEVENT
DTSTART;TZID=Europe/Madrid:20230224T110000
DTEND;TZID=Europe/Madrid:20230224T130000
DTSTAMP:20260424T043739
CREATED:20230221T164910Z
LAST-MODIFIED:20230221T170007Z
UID:1667-1677236400-1677243600@zea-andalu.org
SUMMARY:Mesa reonda "Arte en andalú". Paraninfo de la UPO (Sebiya)
DESCRIPTION:
URL:https://zea-andalu.org/ebentoh/mesa-reonda-arte-en-andalu-paraninfo-de-la-upo-sebiya/
LOCATION:Paraninfo\, Unibersidá Pablo Olavide de Sebiya\, Paraninfo UPO Ctra. de Utrera\, 41089\, Sevilla\, Sebiya / Sevilla (Andalusía)
CATEGORIES:Konferensiah & Xahlah
ATTACH;FMTTYPE=image/jpeg:https://zea-andalu.org/wp-content/uploads/2023/02/Arte-en-andalu.-UPO-24F-2023.jpg
END:VEVENT
END:VCALENDAR