BEGIN:VCALENDAR
VERSION:2.0
PRODID:-//ZEA - Sociedad para el Estudio del Andalú - ECPv6.15.20//NONSGML v1.0//EN
CALSCALE:GREGORIAN
METHOD:PUBLISH
X-WR-CALNAME:ZEA - Sociedad para el Estudio del Andalú
X-ORIGINAL-URL:https://zea-andalu.org
X-WR-CALDESC:Eventos para ZEA - Sociedad para el Estudio del Andalú
REFRESH-INTERVAL;VALUE=DURATION:PT1H
X-Robots-Tag:noindex
X-PUBLISHED-TTL:PT1H
BEGIN:VTIMEZONE
TZID:Europe/Madrid
BEGIN:DAYLIGHT
TZOFFSETFROM:+0100
TZOFFSETTO:+0200
TZNAME:CEST
DTSTART:20220327T010000
END:DAYLIGHT
BEGIN:STANDARD
TZOFFSETFROM:+0200
TZOFFSETTO:+0100
TZNAME:CET
DTSTART:20221030T010000
END:STANDARD
BEGIN:DAYLIGHT
TZOFFSETFROM:+0100
TZOFFSETTO:+0200
TZNAME:CEST
DTSTART:20230326T010000
END:DAYLIGHT
BEGIN:STANDARD
TZOFFSETFROM:+0200
TZOFFSETTO:+0100
TZNAME:CET
DTSTART:20231029T010000
END:STANDARD
BEGIN:DAYLIGHT
TZOFFSETFROM:+0100
TZOFFSETTO:+0200
TZNAME:CEST
DTSTART:20240331T010000
END:DAYLIGHT
BEGIN:STANDARD
TZOFFSETFROM:+0200
TZOFFSETTO:+0100
TZNAME:CET
DTSTART:20241027T010000
END:STANDARD
END:VTIMEZONE
BEGIN:VEVENT
DTSTART;TZID=Europe/Madrid:20231203T123000
DTEND;TZID=Europe/Madrid:20231203T140000
DTSTAMP:20260423T134005
CREATED:20231113T215931Z
LAST-MODIFIED:20231113T220356Z
UID:1899-1701606600-1701612000@zea-andalu.org
SUMMARY:Konferenzia der Huan Porrah en Mataró (Catalunya): "Los retos de la identidad lingüística andaluza: ¿un porbení pal andalú?"
DESCRIPTION:
URL:https://zea-andalu.org/ebentoh/konferenzia-der-huan-porrah-en-mataro-catalunya-los-retos-de-la-identidad-linguistica-andaluza-un-porbeni-pal-andalu/
LOCATION:Casa de Andalucía en Mataró\, C/ Mare de Dèu de la Cisa\, 53\, Mataró (Catalunya)\, Barcelona\, 08303
CATEGORIES:Konferensiah & Xahlah
END:VEVENT
END:VCALENDAR